BEGIN:VCALENDAR
VERSION:2.0
PRODID:icalendar-ruby
CALSCALE:GREGORIAN
METHOD:PUBLISH
BEGIN:VEVENT
DTSTAMP:20260420T024042Z
UID:243-75295@battlefieldbaptist.org
DTSTART:20260503T153000Z
DTEND:20260503T170000Z
CLASS:PUBLIC
CREATED:20260415T113123
DESCRIPTION:Come make an ice cream Sundae! Directly following the 10am wors
 hip service upstairs in the Kids Large room. K5-5th grade. Parents are wel
 come! 
LAST-MODIFIED:20260415T113123
LOCATION:
SUMMARY:Sundae Sunday
URL;VALUE=URI:https://battlefieldbaptist.org/events/sundae-sunday/2026-05-0
 3
ATTACH;FILENAME=Sundae Sunday.jpg;FMTTYPE=image/jpeg:https://dq5pwpg1q8ru0.
 cloudfront.net/2026/04/15/15/31/22/9a48acaf-d3b2-4bd3-b58d-16370668624f/Su
 ndae%20Sunday.jpg
END:VEVENT
END:VCALENDAR
